BEGIN:VCALENDAR
VERSION:2.0
PRODID:-//https://moyockbaptist-org-4ujg.stage.getsimple.net//NONSGML kigkonsult.se iCalcreator 2.41.71//
CALSCALE:GREGORIAN
METHOD:PUBLISH
UID:33306233-6335-4438-a632-356634383735
X-WR-CALNAME:JCal Pro Calendar
X-WR-CALDESC:Your online events calendar
X-WR-TIMEZONE:America/New_York
BEGIN:VTIMEZONE
TZID:America/New_York
TZUNTIL:20271107T060000Z
BEGIN:STANDARD
TZNAME:EST
DTSTART:20251102T020000
TZOFFSETFROM:-0400
TZOFFSETTO:-0500
RDATE:20261101T020000
END:STANDARD
BEGIN:DAYLIGHT
TZNAME:EDT
DTSTART:20260308T020000
TZOFFSETFROM:-0500
TZOFFSETTO:-0400
RDATE:20270314T020000
END:DAYLIGHT
END:VTIMEZONE
BEGIN:VEVENT
UID:20251007T200000UTC-7942HZcEW1@https://www.moyockbaptist.org/
DTSTAMP:20260423T095355Z
CATEGORIES:Community Events
DTSTART;TZID=America/New_York:20251007T200000
DTEND;TZID=America/New_York:20251007T210000
RRULE:FREQ=WEEKLY;UNTIL=20261229T050000Z;INTERVAL=1;BYDAY=TU
SUMMARY:AA Meeting
URL:https://moyockbaptist-org-4ujg.stage.getsimple.net/index.php/church-cal
 endar/41-community-events/3889-aa-meeting
END:VEVENT
END:VCALENDAR
