BEGIN:VCALENDAR
VERSION:2.0
PRODID:-//https://moyockbaptist-org-4ujg.stage.getsimple.net//NONSGML kigkonsult.se iCalcreator 2.41.71//
CALSCALE:GREGORIAN
METHOD:PUBLISH
UID:37646233-6362-4163-b131-386137323362
X-WR-CALNAME:JCal Pro Calendar
X-WR-CALDESC:Your online events calendar
X-WR-TIMEZONE:America/New_York
BEGIN:VTIMEZONE
TZID:America/New_York
TZUNTIL:20271107T060000Z
BEGIN:STANDARD
TZNAME:EST
DTSTART:20251102T020000
TZOFFSETFROM:-0400
TZOFFSETTO:-0500
RDATE:20261101T020000
END:STANDARD
BEGIN:DAYLIGHT
TZNAME:EDT
DTSTART:20260308T020000
TZOFFSETFROM:-0500
TZOFFSETTO:-0400
RDATE:20270314T020000
END:DAYLIGHT
END:VTIMEZONE
BEGIN:VEVENT
UID:20251203T164500UTC-1090ESDEvc@https://www.moyockbaptist.org/
DTSTAMP:20260423T095039Z
CATEGORIES:Church Events
DESCRIPTION:<p>We have a puppet team that practices on Wednesday night and 
 performs for special events. It is led by Meta Lowe and Barbara Wilkins. T
 his team is for grades 6 to 12th.</p>
DTSTART;TZID=America/New_York:20251203T164500
DTEND;TZID=America/New_York:20251203T174500
RRULE:FREQ=WEEKLY;UNTIL=20261216T050000Z;INTERVAL=1;BYDAY=WE
SUMMARY:Puppet Team
URL:https://moyockbaptist-org-4ujg.stage.getsimple.net/index.php/church-cal
 endar/40-church-events/4148-puppet-team
X-ALT-DESC;FMTTYPE=TEXT/HTML:<p>We have a puppet team that practices on Wed
 nesday night and performs for special events. It is led by Meta Lowe and B
 arbara Wilkins. This team is for grades 6 to 12th.</p>
END:VEVENT
BEGIN:VEVENT
UID:20251203T173000UTC-2732jTeg9H@https://www.moyockbaptist.org/
DTSTAMP:20260423T095039Z
CATEGORIES:Church Events
DESCRIPTION:<p>The Church holds a fellowship supper each Wednesday before M
 ission Groups. The church cooks and serves the supper for a modest price.&
 nbsp\;</p>
DTSTART;TZID=America/New_York:20251203T173000
DTEND;TZID=America/New_York:20251203T183000
RRULE:FREQ=WEEKLY;UNTIL=20261216T050000Z;INTERVAL=1;BYDAY=WE
SUMMARY:Fellowship Supper
URL:https://moyockbaptist-org-4ujg.stage.getsimple.net/index.php/church-cal
 endar/40-church-events/4258-fellowship-supper
X-ALT-DESC;FMTTYPE=TEXT/HTML:<p>The Church holds a fellowship supper each W
 ednesday before Mission Groups. The church cooks and serves the supper for
  a modest price.&nbsp\;</p>
END:VEVENT
BEGIN:VEVENT
UID:20251203T183000UTC-8334zRRUSV@https://www.moyockbaptist.org/
DTSTAMP:20260423T095039Z
CATEGORIES:Church Events
DESCRIPTION:<p>Our Mission Groups meet each Wednesday night starting at 6:3
 0. We have Mission Friends for the preschoolers\, Girl in Action and Royal
  Ambassadors for grade school girls and boys. We have Youth on mission for
  our Middle school and High school students. The pastor holds a Bible stud
 y for the adults.</p>\n<p>&nbsp\;</p>
DTSTART;TZID=America/New_York:20251203T183000
DTEND;TZID=America/New_York:20251203T193000
RRULE:FREQ=WEEKLY;UNTIL=20261216T050000Z;INTERVAL=1;BYDAY=WE
SUMMARY:Mission Groups
URL:https://moyockbaptist-org-4ujg.stage.getsimple.net/index.php/church-cal
 endar/40-church-events/4203-mission-groups
X-ALT-DESC;FMTTYPE=TEXT/HTML:<p>Our Mission Groups meet each Wednesday nigh
 t starting at 6:30. We have Mission Friends for the preschoolers\, Girl in
  Action and Royal Ambassadors for grade school girls and boys. We have You
 th on mission for our Middle school and High school students. The pastor h
 olds a Bible study for the adults.</p>\n<p>&nbsp\;</p>
END:VEVENT
BEGIN:VEVENT
UID:20251203T193000UTC-1009v7Wivb@https://www.moyockbaptist.org/
DTSTAMP:20260423T095039Z
CATEGORIES:Church Events
DESCRIPTION:<p>Our Adult Choir practices on Wednesday nights for the Sunday
  Service. They also do a yearly Cantata.</p>
DTSTART;TZID=America/New_York:20251203T193000
DTEND;TZID=America/New_York:20251203T203000
RRULE:FREQ=WEEKLY;UNTIL=20261216T050000Z;INTERVAL=1;BYDAY=WE
SUMMARY:Adult Choir
URL:https://moyockbaptist-org-4ujg.stage.getsimple.net/index.php/church-cal
 endar/40-church-events/4313-adult-choir
X-ALT-DESC;FMTTYPE=TEXT/HTML:<p>Our Adult Choir practices on Wednesday nigh
 ts for the Sunday Service. They also do a yearly Cantata.</p>
END:VEVENT
BEGIN:VEVENT
UID:20260403T000000UTC-3129aesAf6@https://www.moyockbaptist.org/
DTSTAMP:20260423T095039Z
CATEGORIES:Holidays
DTSTART;TZID=America/New_York:20260403T000000
DTEND;TZID=America/New_York:20260403T235959
SUMMARY:Good Friday
URL:https://moyockbaptist-org-4ujg.stage.getsimple.net/index.php/church-cal
 endar/43-holidays/4380-good-friday
END:VEVENT
BEGIN:VEVENT
UID:20260403T190000UTC-83670kS0d0@https://www.moyockbaptist.org/
DTSTAMP:20260423T095039Z
CATEGORIES:Church Events
DESCRIPTION:<p>We will rehearse the final week of Jesus' earthly life\, and
  celebrate the Lord's Supper as we reflect on the meaning and impact of Je
 sus' death on the cross.</p>
DTSTART;TZID=America/New_York:20260403T190000
DTEND;TZID=America/New_York:20260403T200000
SUMMARY:Good Friday Communion Service
URL:https://moyockbaptist-org-4ujg.stage.getsimple.net/index.php/church-cal
 endar/40-church-events/4389-good-friday-communion-service
X-ALT-DESC;FMTTYPE=TEXT/HTML:<p>We will rehearse the final week of Jesus' e
 arthly life\, and celebrate the Lord's Supper as we reflect on the meaning
  and impact of Jesus' death on the cross.</p>
END:VEVENT
BEGIN:VEVENT
UID:20260404T100000UTC-9689sS21Jc@https://www.moyockbaptist.org/
DTSTAMP:20260423T095039Z
CATEGORIES:Church Events
DESCRIPTION:<p>The annual Easter Egg Hunt will begin with a brief program i
 n the fellowship hall\, featuring a reading of the Easter story and a song
  from our puppet team\, folled by the Easter Egg Hunt proper on the Jo Wes
 t and Bob Lee properties.</p>
DTSTART;TZID=America/New_York:20260404T100000
DTEND;TZID=America/New_York:20260404T110000
SUMMARY:Easter Egg Hunt
URL:https://moyockbaptist-org-4ujg.stage.getsimple.net/index.php/church-cal
 endar/40-church-events/4390-easter-egg-hunt
X-ALT-DESC;FMTTYPE=TEXT/HTML:<p>The annual Easter Egg Hunt will begin with 
 a brief program in the fellowship hall\, featuring a reading of the Easter
  story and a song from our puppet team\, folled by the Easter Egg Hunt pro
 per on the Jo West and Bob Lee properties.</p>
END:VEVENT
BEGIN:VEVENT
UID:20260405T000000UTC-5727I294ZU@https://www.moyockbaptist.org/
DTSTAMP:20260423T095039Z
CATEGORIES:Holidays
DTSTART;TZID=America/New_York:20260405T000000
DTEND;TZID=America/New_York:20260405T235959
SUMMARY:Easter
URL:https://moyockbaptist-org-4ujg.stage.getsimple.net/index.php/church-cal
 endar/43-holidays/4381-easter
END:VEVENT
BEGIN:VEVENT
UID:20260405T063000UTC-7816fOCC9S@https://www.moyockbaptist.org/
DTSTAMP:20260423T095039Z
CATEGORIES:Church Events
DESCRIPTION:<p>The Easter Sunrise service will be hosted at the home of Dav
 id and Kim Hart\, located at 147 Sanderson Ct\, Moyock</p>\n<p>The service
  begins at 6:30 am lasts about 45 minutes and concludes with breakfast ref
 eshments and fellowship.</p>
DTSTART;TZID=America/New_York:20260405T063000
DTEND;TZID=America/New_York:20260405T073000
SUMMARY:Easter Sunrise Service
URL:https://moyockbaptist-org-4ujg.stage.getsimple.net/index.php/church-cal
 endar/40-church-events/4391-easter-sunrise-service
X-ALT-DESC;FMTTYPE=TEXT/HTML:<p>The Easter Sunrise service will be hosted a
 t the home of David and Kim Hart\, located at 147 Sanderson Ct\, Moyock</p
 >\n<p>The service begins at 6:30 am lasts about 45 minutes and concludes w
 ith breakfast refeshments and fellowship.</p>
END:VEVENT
BEGIN:VEVENT
UID:20251005T094500UTC-9576GU4n1U@https://www.moyockbaptist.org/
DTSTAMP:20260423T095039Z
CATEGORIES:Church Events
DESCRIPTION:<p>We have a Sunday school class for all ages on Sunday morning
  from 9:45 to 10:45 am.</p>
DTSTART;TZID=America/New_York:20251005T094500
DTEND;TZID=America/New_York:20251005T104500
RRULE:FREQ=WEEKLY;UNTIL=20261227T050000Z;INTERVAL=1;BYDAY=SU
SUMMARY:Sunday School
URL:https://moyockbaptist-org-4ujg.stage.getsimple.net/index.php/church-cal
 endar/40-church-events/3954-sunday-school
X-ALT-DESC;FMTTYPE=TEXT/HTML:<p>We have a Sunday school class for all ages 
 on Sunday morning from 9:45 to 10:45 am.</p>
END:VEVENT
BEGIN:VEVENT
UID:20251005T110000UTC-8862UU4ZjS@https://www.moyockbaptist.org/
DTSTAMP:20260423T095039Z
CATEGORIES:Church Events
DESCRIPTION:<p>We have a worship service each Sunday morning from 11:00 am 
 to around 12:00 pm. During worship we have a childrens church time and the
 n the children age 4 to 2nd grade go to a childrens church class.</p>
DTSTART;TZID=America/New_York:20251005T110000
DTEND;TZID=America/New_York:20251005T110000
RRULE:FREQ=WEEKLY;UNTIL=20261227T050000Z;INTERVAL=1;BYDAY=SU
SUMMARY:Worship
URL:https://moyockbaptist-org-4ujg.stage.getsimple.net/index.php/church-cal
 endar/40-church-events/4019-worship
X-ALT-DESC;FMTTYPE=TEXT/HTML:<p>We have a worship service each Sunday morni
 ng from 11:00 am to around 12:00 pm. During worship we have a childrens ch
 urch time and then the children age 4 to 2nd grade go to a childrens churc
 h class.</p>
END:VEVENT
BEGIN:VEVENT
UID:20251007T200000UTC-7942HZcEW1@https://www.moyockbaptist.org/
DTSTAMP:20260423T095039Z
CATEGORIES:Community Events
DTSTART;TZID=America/New_York:20251007T200000
DTEND;TZID=America/New_York:20251007T210000
RRULE:FREQ=WEEKLY;UNTIL=20261229T050000Z;INTERVAL=1;BYDAY=TU
SUMMARY:AA Meeting
URL:https://moyockbaptist-org-4ujg.stage.getsimple.net/index.php/church-cal
 endar/41-community-events/3889-aa-meeting
END:VEVENT
BEGIN:VEVENT
UID:20251005T120000UTC-3711LouMKE@https://www.moyockbaptist.org/
DTSTAMP:20260423T095039Z
CATEGORIES:Church Events
DESCRIPTION:<p>Our Youth meets at 6:00 pm every Sunday evening for a time o
 f Bible study and youth fellowship. This is led by Pastor Vic and other ad
 ult leaders. Youth from 6th grade to 12th grade may participate.</p>
DTSTART;TZID=America/New_York:20251005T120000
DTEND;TZID=America/New_York:20251005T130000
RRULE:FREQ=WEEKLY;UNTIL=20261220T050000Z;INTERVAL=1;BYDAY=SU
SUMMARY:Youth Fellowship
URL:https://moyockbaptist-org-4ujg.stage.getsimple.net/index.php/church-cal
 endar/40-church-events/4084-youth-fellowship
X-ALT-DESC;FMTTYPE=TEXT/HTML:<p>Our Youth meets at 6:00 pm every Sunday eve
 ning for a time of Bible study and youth fellowship. This is led by Pastor
  Vic and other adult leaders. Youth from 6th grade to 12th grade may parti
 cipate.</p>
END:VEVENT
END:VCALENDAR
